BEGIN:VCALENDAR
VERSION:2.0
PRODID:-//Wellesley Racial Justice Initiative - ECPv6.15.20//NONSGML v1.0//EN
CALSCALE:GREGORIAN
METHOD:PUBLISH
X-WR-CALNAME:Wellesley Racial Justice Initiative
X-ORIGINAL-URL:https://wrji.org
X-WR-CALDESC:Events for Wellesley Racial Justice Initiative
REFRESH-INTERVAL;VALUE=DURATION:PT1H
X-Robots-Tag:noindex
X-PUBLISHED-TTL:PT1H
BEGIN:VTIMEZONE
TZID:America/New_York
BEGIN:DAYLIGHT
TZOFFSETFROM:-0500
TZOFFSETTO:-0400
TZNAME:EDT
DTSTART:20230312T070000
END:DAYLIGHT
BEGIN:STANDARD
TZOFFSETFROM:-0400
TZOFFSETTO:-0500
TZNAME:EST
DTSTART:20231105T060000
END:STANDARD
BEGIN:DAYLIGHT
TZOFFSETFROM:-0500
TZOFFSETTO:-0400
TZNAME:EDT
DTSTART:20240310T070000
END:DAYLIGHT
BEGIN:STANDARD
TZOFFSETFROM:-0400
TZOFFSETTO:-0500
TZNAME:EST
DTSTART:20241103T060000
END:STANDARD
BEGIN:DAYLIGHT
TZOFFSETFROM:-0500
TZOFFSETTO:-0400
TZNAME:EDT
DTSTART:20250309T070000
END:DAYLIGHT
BEGIN:STANDARD
TZOFFSETFROM:-0400
TZOFFSETTO:-0500
TZNAME:EST
DTSTART:20251102T060000
END:STANDARD
END:VTIMEZONE
BEGIN:VEVENT
DTSTART;TZID=America/New_York:20240225T170000
DTEND;TZID=America/New_York:20240225T200000
DTSTAMP:20260425T143351
CREATED:20240206T230023Z
LAST-MODIFIED:20240207T165419Z
UID:1243-1708880400-1708891200@wrji.org
SUMMARY:Movie Night - "Stamped From the Beginning"
DESCRIPTION:“Stamped from the Beginning” is a documentary exploring the history of anti-black\, racist ideas in America\, based on Ibram X. Kendi’s best-selling novel.  \nSome Americans insist that we’re living in a post-racial society. But racist thought is not just alive and well in America–it is more sophisticated and more insidious than ever. As. Kendi argues\, racist ideas have a long and lingering history\, one in which nearly every great American thinker is complicit. \nAs Kendi shows\, racist ideas did not arise from ignorance or hatred. They were created to justify and rationalize deeply entrenched discriminatory policies and the nation’s racial inequities.  \nIn shedding light on this history\, Stamped from the Beginning offers us the tools we need to expose racist thinking. In the process\, it gives us reason to hope. \n                                                                                               Summary: Amazon.com \n  \nThe discussion will be led by Dr. Tyree Oredein ’98.  \nCheck out the film trailer here.  \nAdvance registration is required. Please register by Friday\, February 23.
URL:https://wrji.org/event/wrji-movie-night-stamped-from-the-beginning/
LOCATION:Online via Zoom
CATEGORIES:Movie Nights
ATTACH;FMTTYPE=image/jpeg:https://wrji.org/wp-content/uploads/2024/02/StampedFromBeginning_Film.jpg
ORGANIZER;CN="WRJI":MAILTO:info@wrji.org
END:VEVENT
END:VCALENDAR