BEGIN:VCALENDAR
VERSION:2.0
PRODID:-//Wellesley Racial Justice Initiative - ECPv6.15.20//NONSGML v1.0//EN
CALSCALE:GREGORIAN
METHOD:PUBLISH
X-WR-CALNAME:Wellesley Racial Justice Initiative
X-ORIGINAL-URL:https://wrji.org
X-WR-CALDESC:Events for Wellesley Racial Justice Initiative
REFRESH-INTERVAL;VALUE=DURATION:PT1H
X-Robots-Tag:noindex
X-PUBLISHED-TTL:PT1H
BEGIN:VTIMEZONE
TZID:America/New_York
BEGIN:DAYLIGHT
TZOFFSETFROM:-0500
TZOFFSETTO:-0400
TZNAME:EDT
DTSTART:20240310T070000
END:DAYLIGHT
BEGIN:STANDARD
TZOFFSETFROM:-0400
TZOFFSETTO:-0500
TZNAME:EST
DTSTART:20241103T060000
END:STANDARD
BEGIN:DAYLIGHT
TZOFFSETFROM:-0500
TZOFFSETTO:-0400
TZNAME:EDT
DTSTART:20250309T070000
END:DAYLIGHT
BEGIN:STANDARD
TZOFFSETFROM:-0400
TZOFFSETTO:-0500
TZNAME:EST
DTSTART:20251102T060000
END:STANDARD
BEGIN:DAYLIGHT
TZOFFSETFROM:-0500
TZOFFSETTO:-0400
TZNAME:EDT
DTSTART:20260308T070000
END:DAYLIGHT
BEGIN:STANDARD
TZOFFSETFROM:-0400
TZOFFSETTO:-0500
TZNAME:EST
DTSTART:20261101T060000
END:STANDARD
END:VTIMEZONE
BEGIN:VEVENT
DTSTART;TZID=America/New_York:20250315T120000
DTEND;TZID=America/New_York:20250315T133000
DTSTAMP:20260421T134214
CREATED:20250217T152117Z
LAST-MODIFIED:20250217T152227Z
UID:1976-1742040000-1742045400@wrji.org
SUMMARY:WRJI Book Club: Do Better: Spiritual Activism for Fighting and Healing From White Supremacy
DESCRIPTION:WRJI Book Club: Do Better: Spiritual Activism for Fighting and Healing From White Supremacy by Rachel Ricketts \nSaturday March 15\n12pm – 1:30pm ET\nZoom\nFree \nJoin WRJI for a discussion of Do Better – a revolutionary book that addresses anti-racism from a comprehensive\, intersectional\, and spiritually-aligned perspective. This actionable guidebook illustrates how to engage in the heart-centered and mindfulness-based practices that racial justice educator and healer Rachel Ricketts has developed to fight white supremacy from the inside out\, in our personal lives and communities alike. It is a loving and assertive call to do the deep—and often uncomfortable—inner work that precipitates much-needed external and global change. \nRadical racial justice includes daily\, intentional\, and informed action. It demands addressing the emotional violence we have perpetuated on ourselves and others (most notably toward Black and Indigenous women and femmes)\, both as individuals and as a society. Do Better provides the missing pieces to manifest practicable\, sustainable solutions such as identifying where we most get stuck\, mitigating the harm we inflict on others\, and mending our hearts from our most painful race and gender-based experiences\, plus much more. \nThis inspirational and eye-opening handbook is filled with carefully curated soulcare activities for getting into our bodies and better withstanding the grief\, rage\, and conflicting emotions that naturally arise when we fight against injustice. Culturally informed\, secular spiritual exercises\, such as guided meditations\, transformative breathwork\, and journaling prompt unpack our privilege\, and take up the ongoing fight against oppression\, while transforming our own lives along the way. \nThe discussion will be led by Fiona Oliphant ’93. The Zoom link will be sent in advance of the event.
URL:https://wrji.org/event/wrji-book-club-do-better-spiritual-activism-for-fighting-and-healing-from-white-supremacy/
LOCATION:Online via Zoom
CATEGORIES:Book Club
ATTACH;FMTTYPE=image/webp:https://wrji.org/wp-content/uploads/2025/02/Do-Better-Spiritual-Activism-by-Rachel-Ricketts-scaled-1.webp
ORGANIZER;CN="WRJI":MAILTO:info@wrji.org
END:VEVENT
END:VCALENDAR